BEGIN:VCALENDAR
VERSION:2.0
PRODID:-//Montana Masters Swimming - ECPv6.15.13.1//NONSGML v1.0//EN
CALSCALE:GREGORIAN
METHOD:PUBLISH
X-ORIGINAL-URL:https://swimmontana.org
X-WR-CALDESC:Events for Montana Masters Swimming
REFRESH-INTERVAL;VALUE=DURATION:PT1H
X-Robots-Tag:noindex
X-PUBLISHED-TTL:PT1H
BEGIN:VTIMEZONE
TZID:UTC
BEGIN:STANDARD
TZOFFSETFROM:+0000
TZOFFSETTO:+0000
TZNAME:UTC
DTSTART:20220101T000000
END:STANDARD
END:VTIMEZONE
BEGIN:VEVENT
DTSTART;VALUE=DATE:20230318
DTEND;VALUE=DATE:20230320
DTSTAMP:20260422T103029
CREATED:20230124T050846Z
LAST-MODIFIED:20230124T052613Z
UID:2239-1679097600-1679270399@swimmontana.org
SUMMARY:Montana State Meet Championship
DESCRIPTION:Date: Saturday\, March 18\, 2023\, through Sunday\, March 19\, 2023\nLocation: Butte YMCA\n2023 Montana SCY Championship Meet details and registration are here.\n\nContact Information: Peggy Stringer\, strpmls@gmail.com\, (406) 459-9748 \n\nRegister by March 12\, 2023\nCourse: Short Course Yards\nDescription: State Championship Meet (scy) Butte YMCA March 18-19\, 2023\nLMSC: Montana\nSanction Number: 313-S001\nSanction Status: Sanctioned by the Montana LMSC
URL:https://swimmontana.org/event/montana-state-meet-championship/
LOCATION:Butte Family YMCA\, 2975 Washoe St.\, Butte\, MT\, 59701\, United States
CATEGORIES:State championship,Swim Meets
ATTACH;FMTTYPE=image/jpeg:https://swimmontana.org/wp-content/uploads/2022/04/Butte-take-your-mark-scaled.jpg
ORGANIZER;CN="Big Sky Masters Swim Club":MAILTO:strpmls@gmail.com
END:VEVENT
END:VCALENDAR