BEGIN:VCALENDAR
VERSION:2.0
PRODID:-//Montana Masters Swimming - ECPv6.15.13.1//NONSGML v1.0//EN
CALSCALE:GREGORIAN
METHOD:PUBLISH
X-ORIGINAL-URL:https://swimmontana.org
X-WR-CALDESC:Events for Montana Masters Swimming
REFRESH-INTERVAL;VALUE=DURATION:PT1H
X-Robots-Tag:noindex
X-PUBLISHED-TTL:PT1H
BEGIN:VTIMEZONE
TZID:America/Denver
BEGIN:DAYLIGHT
TZOFFSETFROM:-0700
TZOFFSETTO:-0600
TZNAME:MDT
DTSTART:20210314T090000
END:DAYLIGHT
BEGIN:STANDARD
TZOFFSETFROM:-0600
TZOFFSETTO:-0700
TZNAME:MST
DTSTART:20211107T080000
END:STANDARD
BEGIN:DAYLIGHT
TZOFFSETFROM:-0700
TZOFFSETTO:-0600
TZNAME:MDT
DTSTART:20220313T090000
END:DAYLIGHT
BEGIN:STANDARD
TZOFFSETFROM:-0600
TZOFFSETTO:-0700
TZNAME:MST
DTSTART:20221106T080000
END:STANDARD
BEGIN:DAYLIGHT
TZOFFSETFROM:-0700
TZOFFSETTO:-0600
TZNAME:MDT
DTSTART:20230312T090000
END:DAYLIGHT
BEGIN:STANDARD
TZOFFSETFROM:-0600
TZOFFSETTO:-0700
TZNAME:MST
DTSTART:20231105T080000
END:STANDARD
END:VTIMEZONE
BEGIN:VEVENT
DTSTART;TZID=America/Denver:20220408T171500
DTEND;TZID=America/Denver:20220409T180000
DTSTAMP:20260420T223242
CREATED:20220203T004336Z
LAST-MODIFIED:20220214T000110Z
UID:2056-1649438100-1649527200@swimmontana.org
SUMMARY:2022 Montana Masters SCY Championship Meet & Annual Meeting
DESCRIPTION:The MT LMSC is proud to present and host the 2022 Montana SCY Championship Meet! This meet is a USMS sanctioned event. We will swim\, conduct our annual meeting\, and have fun! Meet Registration closes on Thursday\, March 31\, 2022 11:55 PM.  \nChampionship Meet\nFriday\, April 8 – Saturday\, April 9\, 2022 \nLocation: Butte Family YMCA\n2975 Washoe St.\nButte\, MT 59701 \nMeet Information Sheet\nThe meet information sheet contains details about the swim meet and social. Entries will be capped at seven individual events per person. This year\, the meet fee is $40 and is non-refundable. All events are listed on the last page. Please read this document before reaching out with any further questions.  \nClick here to view the meet information sheet \nOnline Registration\nThis year we are accepting online registrations only. Use the link below to go straight to the registration page.  \nClick here to register online today  \n  \nPizza Social and Annual Meeting\nFriday night after the conclusion of the 400 IM\, 7 pm\nSilver Bow Pizza\n3500 Harrison Ave\nButte\, MT 59701
URL:https://swimmontana.org/event/2022-montana-masters-scy-championship-meet-annual-meeting/
LOCATION:Butte Family YMCA\, 2975 Washoe St.\, Butte\, MT\, 59701\, United States
CATEGORIES:Pool Swim,State championship,Swim Meets
ATTACH;FMTTYPE=image/jpeg:https://swimmontana.org/wp-content/uploads/2018/02/USMS_Logo_Horz_url_tm.jpg
ORGANIZER;CN="MT LMSC":MAILTO:glenhollyfarm.livoni@gmail.com
END:VEVENT
END:VCALENDAR