BEGIN:VCALENDAR
VERSION:2.0
PRODID:-//Montana Masters Swimming - ECPv6.15.13.1//NONSGML v1.0//EN
CALSCALE:GREGORIAN
METHOD:PUBLISH
X-WR-CALNAME:Montana Masters Swimming
X-ORIGINAL-URL:https://swimmontana.org
X-WR-CALDESC:Events for Montana Masters Swimming
REFRESH-INTERVAL;VALUE=DURATION:PT1H
X-Robots-Tag:noindex
X-PUBLISHED-TTL:PT1H
BEGIN:VTIMEZONE
TZID:UTC
BEGIN:STANDARD
TZOFFSETFROM:+0000
TZOFFSETTO:+0000
TZNAME:UTC
DTSTART:20210101T000000
END:STANDARD
END:VTIMEZONE
BEGIN:VEVENT
DTSTART;TZID=UTC:20220429T080000
DTEND;TZID=UTC:20220501T170000
DTSTAMP:20260420T190623
CREATED:20220411T053556Z
LAST-MODIFIED:20220411T053556Z
UID:2103-1651219200-1651424400@swimmontana.org
SUMMARY:2022 BOZ Smiles May Classic - Apr 29-May 1
DESCRIPTION:NEW DATE!! The BOZ Smiles May Classic Meet will be held April 29 – May 1!! \nREGISTRATION DEADLINE: April 21\, 2022 \nHOST: BOZ Barracudas \nLOCATION: Bozeman Swim Center\, Bozeman\, MT \nPOOL: Indoor\, 50 LCM Pool \nQualifying Meet: No \nUSA Swimming Sanction Number 2225. \nThis meet will be sanctioned for Masters. \nA corrected event file (002) was posted 4-10-2022. Please use this file for entries. \nMeet Contract and Registration Form
URL:https://swimmontana.org/event/2022-boz-smiles-may-classic-apr-29-may-1/
LOCATION:Bozeman Swim Center\, 1211 W Main St\, Bozeman\, MT\, 59715\, United States
CATEGORIES:Pool Swim,Swim Meets
ORGANIZER;CN="Bozeman Barracudas":MAILTO:meetregistrar@bozemanbarracudas.org
END:VEVENT
END:VCALENDAR