BEGIN:VCALENDAR
VERSION:2.0
PRODID:-//Montana Masters Swimming - ECPv6.15.13.1//NONSGML v1.0//EN
CALSCALE:GREGORIAN
METHOD:PUBLISH
X-WR-CALNAME:Montana Masters Swimming
X-ORIGINAL-URL:https://swimmontana.org
X-WR-CALDESC:Events for Montana Masters Swimming
REFRESH-INTERVAL;VALUE=DURATION:PT1H
X-Robots-Tag:noindex
X-PUBLISHED-TTL:PT1H
BEGIN:VTIMEZONE
TZID:UTC
BEGIN:STANDARD
TZOFFSETFROM:+0000
TZOFFSETTO:+0000
TZNAME:UTC
DTSTART:20210101T000000
END:STANDARD
END:VTIMEZONE
BEGIN:VEVENT
DTSTART;VALUE=DATE:20220313
DTEND;VALUE=DATE:20220314
DTSTAMP:20260420T222749
CREATED:20220306T171221Z
LAST-MODIFIED:20220306T172004Z
UID:2085-1647129600-1647215999@swimmontana.org
SUMMARY:WWU Masters Swim Meet - Register by March 9th
DESCRIPTION:Photo alt text:  Female swimmer swimming freestyle in clear blue pool with lane lines. \nThanks to WWU Masters Swimming’s determination and quick turnaround\, they will be hosting a meet at Arne Hanna Aquatic Center in Bellingham on Sunday\, March 13. Yes\, you read correctly\, only 9 days from now. Registration is now open and will close on Wednesday\, March 9 at 11:59 pm. \nMeet Information\nRegistration \nPNA Pool Meets Chair\nLorraine Masse
URL:https://swimmontana.org/event/wwu-masters-swim-meet-march-13th/
LOCATION:Arne Hanna Aquatic Center\, 1114 Potter St\,\, Bellingham\, WA\, 98229\, United States
CATEGORIES:Pool Swim,Swim Meets
END:VEVENT
END:VCALENDAR