BEGIN:VCALENDAR
VERSION:2.0
PRODID:-//Montana Masters Swimming - ECPv6.15.13.1//NONSGML v1.0//EN
CALSCALE:GREGORIAN
METHOD:PUBLISH
X-ORIGINAL-URL:https://swimmontana.org
X-WR-CALDESC:Events for Montana Masters Swimming
REFRESH-INTERVAL;VALUE=DURATION:PT1H
X-Robots-Tag:noindex
X-PUBLISHED-TTL:PT1H
BEGIN:VTIMEZONE
TZID:America/Denver
BEGIN:DAYLIGHT
TZOFFSETFROM:-0700
TZOFFSETTO:-0600
TZNAME:MDT
DTSTART:20160313T090000
END:DAYLIGHT
BEGIN:STANDARD
TZOFFSETFROM:-0600
TZOFFSETTO:-0700
TZNAME:MST
DTSTART:20161106T080000
END:STANDARD
BEGIN:DAYLIGHT
TZOFFSETFROM:-0700
TZOFFSETTO:-0600
TZNAME:MDT
DTSTART:20170312T090000
END:DAYLIGHT
BEGIN:STANDARD
TZOFFSETFROM:-0600
TZOFFSETTO:-0700
TZNAME:MST
DTSTART:20171105T080000
END:STANDARD
BEGIN:DAYLIGHT
TZOFFSETFROM:-0700
TZOFFSETTO:-0600
TZNAME:MDT
DTSTART:20180311T090000
END:DAYLIGHT
BEGIN:STANDARD
TZOFFSETFROM:-0600
TZOFFSETTO:-0700
TZNAME:MST
DTSTART:20181104T080000
END:STANDARD
BEGIN:DAYLIGHT
TZOFFSETFROM:-0700
TZOFFSETTO:-0600
TZNAME:MDT
DTSTART:20190310T090000
END:DAYLIGHT
BEGIN:STANDARD
TZOFFSETFROM:-0600
TZOFFSETTO:-0700
TZNAME:MST
DTSTART:20191103T080000
END:STANDARD
END:VTIMEZONE
BEGIN:VTIMEZONE
TZID:America/Los_Angeles
BEGIN:DAYLIGHT
TZOFFSETFROM:-0800
TZOFFSETTO:-0700
TZNAME:PDT
DTSTART:20160313T100000
END:DAYLIGHT
BEGIN:STANDARD
TZOFFSETFROM:-0700
TZOFFSETTO:-0800
TZNAME:PST
DTSTART:20161106T090000
END:STANDARD
BEGIN:DAYLIGHT
TZOFFSETFROM:-0800
TZOFFSETTO:-0700
TZNAME:PDT
DTSTART:20170312T100000
END:DAYLIGHT
BEGIN:STANDARD
TZOFFSETFROM:-0700
TZOFFSETTO:-0800
TZNAME:PST
DTSTART:20171105T090000
END:STANDARD
BEGIN:DAYLIGHT
TZOFFSETFROM:-0800
TZOFFSETTO:-0700
TZNAME:PDT
DTSTART:20180311T100000
END:DAYLIGHT
BEGIN:STANDARD
TZOFFSETFROM:-0700
TZOFFSETTO:-0800
TZNAME:PST
DTSTART:20181104T090000
END:STANDARD
BEGIN:DAYLIGHT
TZOFFSETFROM:-0800
TZOFFSETTO:-0700
TZNAME:PDT
DTSTART:20190310T100000
END:DAYLIGHT
BEGIN:STANDARD
TZOFFSETFROM:-0700
TZOFFSETTO:-0800
TZNAME:PST
DTSTART:20191103T090000
END:STANDARD
END:VTIMEZONE
BEGIN:VEVENT
DTSTART;TZID=America/Denver:20180406T180000
DTEND;TZID=America/Denver:20180408T170000
DTSTAMP:20260421T023523
CREATED:20171210T223954Z
LAST-MODIFIED:20180311T210108Z
UID:1050-1523037600-1523206800@swimmontana.org
SUMMARY:Montana SCY State Championships
DESCRIPTION:Registration is open!
URL:https://swimmontana.org/event/montana-scy-state-championships/
LOCATION:Montana
CATEGORIES:Pool Swim,State championship,Swim Meets
ATTACH;FMTTYPE=image/jpeg:https://swimmontana.org/wp-content/uploads/2017/12/PoolAndSwimmer.jpeg
END:VEVENT
BEGIN:VEVENT
DTSTART;TZID=America/Los_Angeles:20180311T080000
DTEND;TZID=America/Los_Angeles:20180311T170000
DTSTAMP:20260421T023523
CREATED:20171210T225600Z
LAST-MODIFIED:20171223T223759Z
UID:1064-1520755200-1520787600@swimmontana.org
SUMMARY:2018 Port Angeles Masters Meet
DESCRIPTION:
URL:https://swimmontana.org/event/2018-port-angeles-masters-meet/
LOCATION:William Shore Memorial Pool\, Port Angeles\, Washington
CATEGORIES:Pool Swim,Swim Meets
ATTACH;FMTTYPE=image/jpeg:https://swimmontana.org/wp-content/uploads/2017/12/PoolAndSwimmer.jpeg
END:VEVENT
BEGIN:VEVENT
DTSTART;TZID=America/Los_Angeles:20180218T080000
DTEND;TZID=America/Los_Angeles:20180218T170000
DTSTAMP:20260421T023523
CREATED:20171223T225437Z
LAST-MODIFIED:20171223T224933Z
UID:1061-1518940800-1518973200@swimmontana.org
SUMMARY:2018 Lake Washington Masters Invitational
DESCRIPTION:
URL:https://swimmontana.org/event/2018-lake-washington-masters-invitational/
LOCATION:Juanita Aquatics Center\, Juanita High School\, Kirkland\, Washington
CATEGORIES:Pool Swim,Swim Meets
ATTACH;FMTTYPE=image/jpeg:https://swimmontana.org/wp-content/uploads/2017/12/PoolAndSwimmer.jpeg
END:VEVENT
BEGIN:VEVENT
DTSTART;TZID=America/Denver:20180204T080000
DTEND;TZID=America/Denver:20180204T170000
DTSTAMP:20260421T023523
CREATED:20171210T225244Z
LAST-MODIFIED:20171223T224105Z
UID:1058-1517731200-1517763600@swimmontana.org
SUMMARY:2018 Thunderbird SCM Masters Meet
DESCRIPTION:
URL:https://swimmontana.org/event/2018-thunderbird-scm-masters-meet/
LOCATION:Fidalgo Pool\, Anacortes\, Washington
CATEGORIES:Pool Swim,Swim Meets
ATTACH;FMTTYPE=image/jpeg:https://swimmontana.org/wp-content/uploads/2017/12/PoolAndSwimmer.jpeg
END:VEVENT
BEGIN:VEVENT
DTSTART;TZID=America/Los_Angeles:20180121T080000
DTEND;TZID=America/Los_Angeles:20180121T170000
DTSTAMP:20260421T023523
CREATED:20171210T225129Z
LAST-MODIFIED:20171223T224259Z
UID:1055-1516521600-1516554000@swimmontana.org
SUMMARY:Bellevue Club Masters Meet
DESCRIPTION:
URL:https://swimmontana.org/event/bellevue-club-masters-meet/
LOCATION:Bellevue Club\, 11200 SE 6th Street\, Bellevue\, Washington\, 98004
CATEGORIES:Pool Swim,Swim Meets
ATTACH;FMTTYPE=image/jpeg:https://swimmontana.org/wp-content/uploads/2017/12/PoolAndSwimmer.jpeg
END:VEVENT
BEGIN:VEVENT
DTSTART;TZID=America/Denver:20171221T180000
DTEND;TZID=America/Denver:20171221T210000
DTSTAMP:20260421T023523
CREATED:20171211T232226Z
LAST-MODIFIED:20171223T224355Z
UID:1105-1513879200-1513890000@swimmontana.org
SUMMARY:Dive for Five Missoula High School Alumni Swim Meet
DESCRIPTION:2017 Dive for Five info sheet
URL:https://swimmontana.org/event/dive-for-five-missoula-high-school-alumni-swim-meet/
LOCATION:University of MT Grizzly Pool\, Missoula\, Montana
CATEGORIES:Pool Swim,Swim Meets
ATTACH;FMTTYPE=image/jpeg:https://swimmontana.org/wp-content/uploads/2017/12/PoolAndSwimmer.jpeg
END:VEVENT
BEGIN:VEVENT
DTSTART;TZID=America/Denver:20171209T080000
DTEND;TZID=America/Denver:20171209T170000
DTSTAMP:20260421T023523
CREATED:20171210T225018Z
LAST-MODIFIED:20171210T225018Z
UID:1053-1512806400-1512838800@swimmontana.org
SUMMARY:Bend 2017 All-Around Challenge: SCM Pentathlon and Brute Squad Meet
DESCRIPTION:
URL:https://swimmontana.org/event/bend-2017-all-around-challenge-scm-pentathlon-and-brute-squad-meet/
LOCATION:Bend\, OR\, United States
END:VEVENT
BEGIN:VEVENT
DTSTART;VALUE=DATE:20171118
DTEND;VALUE=DATE:20171120
DTSTAMP:20260421T023523
CREATED:20171024T185509Z
LAST-MODIFIED:20171024T185509Z
UID:906-1510963200-1511135999@swimmontana.org
SUMMARY:2017 Puget Sound Masters SCM Championship Meet
DESCRIPTION:
URL:https://swimmontana.org/event/2017-puget-sound-masters-scm-championship-meet/
LOCATION:Montana
END:VEVENT
BEGIN:VEVENT
DTSTART;VALUE=DATE:20171111
DTEND;VALUE=DATE:20171113
DTSTAMP:20260421T023523
CREATED:20171024T184750Z
LAST-MODIFIED:20171024T185010Z
UID:901-1510358400-1510531199@swimmontana.org
SUMMARY:2017 NW Zone Championship / Hood River Short Course Meters Meet
DESCRIPTION:
URL:https://swimmontana.org/event/901/
LOCATION:Montana
END:VEVENT
BEGIN:VEVENT
DTSTART;VALUE=DATE:20170923
DTEND;VALUE=DATE:20170924
DTSTAMP:20260421T023523
CREATED:20170808T195220Z
LAST-MODIFIED:20170813T205237Z
UID:384-1506124800-1506211199@swimmontana.org
SUMMARY:9/23/17 Last Gasp of Summer - 1 Mile\, 2 Mile\, and Julie Montiel 1 mile Fun Swim\, And National Championship Open Water Swim
DESCRIPTION:9/23/17 – Go to the event website Last Gasp of Summer \nSanctioned by PNA for USMS\nHosted by: Blue Wave Aquatics \nLOCATION: Angle Lake Park 19408 International Blvd\, Seatac\, WA 98148 \nCOURSE: The course is a rectangular course. One mile swimmers swim one lap two mile swimmers swim two laps. The lake temperature averages in the high 60’s in mid-September. \nEVENTS: USMS Sprint Distance Open Water Championship One Mile\, One Mile Wetsuit\, One Mile No-Wetsuit\, One Mile Julie Montiel Fun Swim\, Two Mile Wetsuit\, Two Mile No-Wetsuit. If you swim the Sprint Distance you may swim one of the other events for no additional charge.
URL:https://swimmontana.org/event/last-gasp-of-summer-1-mile-2-mile-and-julie-montiel-1-mile-fun-swim-and-national-championship-open-water-swim/
LOCATION:Angle Lake\, Washington\, 19408 International Blvd\, SeaTac\, WA\, 98148\, United States
CATEGORIES:National Championship,Open Water,Swim Meets,Swimming Events Not Meets
ORGANIZER;CN="Blue Wave Aquatics - Mike Murphy":MAILTO:lastgaspofsummer@BlueWave-Aquatics.com
END:VEVENT
BEGIN:VEVENT
DTSTART;VALUE=DATE:20170923
DTEND;VALUE=DATE:20170924
DTSTAMP:20260421T023523
CREATED:20170808T194544Z
LAST-MODIFIED:20170813T204803Z
UID:380-1506124800-1506211199@swimmontana.org
SUMMARY:USMS Sprint Distance Open Water National Championship - 1 Mile\, 9/23/17
DESCRIPTION:9/23/17 Go to event website Last Gasp of Summer \nSanctioned by PNA for USMS\nHosted by: Blue Wave Aquatics \nLOCATION: Angle Lake Park 19408 International Blvd\, Seatac\, WA 98148 \nCOURSE: The course is a rectangular course. One mile swimmers swim one lap two mile swimmers swim two laps. The lake temperature averages in the high 60’s in mid-September. \nEVENTS: USMS Sprint Distance Open Water Championship One Mile\, One Mile Wetsuit\, One Mile No-Wetsuit\, One Mile Julie Montiel Fun Swim\, Two Mile Wetsuit\, Two Mile No-Wetsuit. If you swim the Sprint Distance you may swim one of the other events for no additional charge.
URL:https://swimmontana.org/event/usms-sprint-distance-open-water-national-championship-1-mile/
LOCATION:Angle Lake\, Washington\, 19408 International Blvd\, SeaTac\, WA\, 98148\, United States
CATEGORIES:National Championship,Open Water,Swim Meets
ORGANIZER;CN="Blue Wave Aquatics - Mike Murphy":MAILTO:lastgaspofsummer@BlueWave-Aquatics.com
END:VEVENT
BEGIN:VEVENT
DTSTART;VALUE=DATE:20170820
DTEND;VALUE=DATE:20170821
DTSTAMP:20260421T023523
CREATED:20170808T024559Z
LAST-MODIFIED:20170813T204929Z
UID:377-1503187200-1503273599@swimmontana.org
SUMMARY:8/20/17 USMS Stroke Development Clinic - Missoula
DESCRIPTION:8/20/17 – \nUSMS writes.. \nThe USMS stroke development and improvement clinic is for swimmers of all abilities. All four strokes are evaluated and corrected with the use of drills and coach instruction. Several of the top area coaches will be on hand\, along with mentor coaches selected by the USMS national office and Education Services. The goal of the clinic is to help swimmers improve stroke technique and teach drills that will enable the continued refinement of the strokes. Swimmers are not required to swim all strokes and may work on only those strokes they choose. Swimmers need to bring fins\, suit\, goggles and a towel. Fins are important because without them many of the drills may be difficult. Fins help create buoyancy and mild propulsion.If you have hand paddles\, please bring them too. USMS membership is required in order to participate. \n  \nhttps://www.clubassistant.com/club/clinics/reserve.cfm?c=1758&cid=74527
URL:https://swimmontana.org/event/usms-stroke-development-clinic-missoula/
LOCATION:Missoula Family YMCA\, 3000 South Russell Syreet\, Missoula\, MT\, 59801\, United States
CATEGORIES:Swim Clinic
ORGANIZER;CN="USMS%2C Marianne Groenings":MAILTO:mgroenings@usmastersswimming.org/
END:VEVENT
BEGIN:VEVENT
DTSTART;VALUE=DATE:20170819
DTEND;VALUE=DATE:20170820
DTSTAMP:20260421T023523
CREATED:20170808T024054Z
LAST-MODIFIED:20170813T205007Z
UID:371-1503100800-1503187199@swimmontana.org
SUMMARY:8/19/17 - USMS Stroke Development Clinic - Bozeman
DESCRIPTION:8/19/17 \nUSMS writes.. \nThe USMS stroke development and improvement clinic is for swimmers of all abilities. All four strokes are evaluated and corrected with the use of drills and coach instruction. Several of the top area coaches will be on hand\, along with mentor coaches selected by the USMS national office and Education Services. The goal of the clinic is to help swimmers improve stroke technique and teach drills that will enable the continued refinement of the strokes. Swimmers are not required to swim all strokes and may work on only those strokes they choose. Swimmers need to bring fins\, suit\, goggles and a towel. Fins are important because without them many of the drills may be difficult.  Fins help create buoyancy and mild propulsion.If you have hand paddles\, please bring them too. USMS membership is required in order to participate.
URL:https://swimmontana.org/event/usms-stroke-development-clinic/
LOCATION:Montana State Univeristy Pool\, 120 Marga Hosaeus Fitness Center\, Bozeman\, MT 59715\, 59715\, United States
CATEGORIES:Swim Clinic
ORGANIZER;CN="USMS%2C Marianne Groenings":MAILTO:mgroenings@usmastersswimming.org/
END:VEVENT
BEGIN:VEVENT
DTSTART;TZID=America/Denver:20170802T080000
DTEND;TZID=America/Denver:20170806T170000
DTSTAMP:20260421T023523
CREATED:20170808T023112Z
LAST-MODIFIED:20170813T205124Z
UID:367-1501660800-1502038800@swimmontana.org
SUMMARY:8/2/17 - 2017 USMS Summer National Championship
DESCRIPTION:8/2/17 – The 2017 U.S. Masters Swimming Summer National Championship will be held August 2-6 at the University of Minnesota Aquatic Center in Minneapolis\, Minnesota. Go to website 
URL:https://swimmontana.org/event/2017-usms-summer-national-championship/
LOCATION:University of Minnesota Aquatic Center\, Minneapolis\, MN\, United States
CATEGORIES:National Championship,Pool Swim,Swim Meets
END:VEVENT
END:VCALENDAR